BEGIN:VCALENDAR
CALSCALE:GREGORIAN
VERSION:2.0
PRODID:basecamp.telefonica.de
BEGIN:VEVENT
CALSCALE:GREGORIAN
UID:69e8c3b4996f1
DTSTART:20260519T160000Z
SEQUENCE:0
TRANSP:OPAQUE
DTEND:20260519T173000Z
LOCATION:BASECAMP\, Mittelstraße 51 - 53\, 10117\, Berlin
SUMMARY:Ost und West Gespräch der Deutschen Gesellschaft e.V.: Deutsche Ei
 nheit - reale und vermutete Unterschiede im Jahr 2026
CLASS:PUBLIC
DESCRIPTION:Die Reihe „Ost und West im Gespräch“ greift den Generation
 enwechsel zur \"ersten Generation der Einheit\" auf und fragt danach\, ob 
 und inwiefern die Geschichte der Deutschen Einheit neu bewertet werden mus
 s.\n\nInfos & Anmeldung:\nhttps://www.basecamp.digital/event/ost-und-west-
 gespraech-der-deutschen-gesellschaft-e-v-deutsche-einheit-reale-und-vermut
 ete-unterschiede-im-jahr-2026/
DTSTAMP:20260422T144852Z
END:VEVENT
END:VCALENDAR