BEGIN:VCALENDAR
CALSCALE:GREGORIAN
VERSION:2.0
PRODID:basecamp.telefonica.de
BEGIN:VEVENT
CALSCALE:GREGORIAN
UID:69e770376dc9e
DTSTART:20260521T160000Z
SEQUENCE:0
TRANSP:OPAQUE
DTEND:20260521T173000Z
LOCATION:BASECAMP\, Mittelstraße 51 - 53\, 10117\, Berlin
SUMMARY:AllianzTalk – Von der Strategie zur Umsetzung: Wie geht es weiter
  mit der Rechenzentrums&shy\;strategie?
CLASS:PUBLIC
DESCRIPTION:Die unter dem Dach des eco – Verband der Internetwirtschaft e
 .V. gegründete Allianz zur Stärkung Digitaler Infrastrukturen lädt Sie 
 am 21. Mai 2026 herzlich ein mit Expertinnen und Experten zentrale Umsetzu
 ngsfragen zur Nationalen Rechenzentrumsstrategie zu diskutieren.\n\nInfos 
 & Anmeldung:\nhttps://www.basecamp.digital/event/allianztalk-von-der-strat
 egie-zur-umsetzung-wie-geht-es-weiter-mit-der-rechenzentrumsstrategie/
DTSTAMP:20260421T144023Z
END:VEVENT
END:VCALENDAR