BEGIN:VCALENDAR
CALSCALE:GREGORIAN
VERSION:2.0
PRODID:basecamp.telefonica.de
BEGIN:VEVENT
CALSCALE:GREGORIAN
UID:69e6101aae452
DTSTART:20260324T110000Z
SEQUENCE:0
TRANSP:OPAQUE
DTEND:20260324T113000Z
LOCATION:BASECAMP\, Mittelstraße 51 - 53\, 10117\, Berlin
SUMMARY:BASECAMP Nachgefragt!: Gegen Hass\, für Zusammenhalt - Demokratie 
 im digitalen Raum sichern!
CLASS:PUBLIC
DESCRIPTION:\n\nInfos & Anmeldung:\nhttps://www.basecamp.digital/event/base
 camp-nachgefragt-gegen-hass-fuer-zusammenhalt-demokratie-im-digitalen-raum
 -sichern/
DTSTAMP:20260420T133802Z
END:VEVENT
END:VCALENDAR