BEGIN:VCALENDAR
CALSCALE:GREGORIAN
VERSION:2.0
PRODID:basecamp.telefonica.de
BEGIN:VEVENT
CALSCALE:GREGORIAN
UID:69ea37e0107c5
DTSTART:20251126T163000Z
SEQUENCE:0
TRANSP:OPAQUE
DTEND:20251126T200000Z
LOCATION:BASECAMP\, Mittelstraße 51 - 53\, 10117\, Berlin
SUMMARY:polITalk – Geo-Resilienz vom eco e.V.: Wie sich Europas Wirtschaf
 t souverän im globalen Technologie&shy\;wettbewerb behauptet
CLASS:PUBLIC
DESCRIPTION:Im Rahmen des polITalk wird über Geo-Resilienz in der Praxis d
 iskutiert: Was bedeutet das für deutsche Unternehmen?\n\nInfos & Anmeldun
 g:\nhttps://www.basecamp.digital/event/politalk-geo-resilienz-vom-eco-e-v-
 wie-sich-europas-wirtschaft-souveraen-im-globalen-technologiewettbewerb-be
 hauptet/
DTSTAMP:20260423T171648Z
END:VEVENT
END:VCALENDAR