BEGIN:VCALENDAR
CALSCALE:GREGORIAN
VERSION:2.0
PRODID:basecamp.telefonica.de
BEGIN:VEVENT
CALSCALE:GREGORIAN
UID:69e859e5b825d
DTSTART:20251016T153000Z
SEQUENCE:0
TRANSP:OPAQUE
DTEND:20251016T163000Z
LOCATION:BASECAMP\, Mittelstraße 51 - 53\, 10117\, Berlin
SUMMARY:UdL Digital Talk mit Alexander Schweitzer und Lena Weirauch: Kolleg
 e KI ist da - Wie kommen wir durch den Kulturwandel?
CLASS:PUBLIC
DESCRIPTION:Ist Künstliche Intelligenz eine vergleichbare Revolution wie d
 ie Industrialisierung? Über diese und weitere Themen wollen wir beim näc
 hsten UdL Digital Talk live und vor Ort mit Alexander Schweitzer\, Ministe
 rpräsident des Landes Rheinland-Pfalz\, ins Gespräch kommen.\n\nInfos & 
 Anmeldung:\nhttps://www.basecamp.digital/event/udl-digital-talk-mit-alexan
 der-schweitzer-kollege-ki-ist-da-wie-kommen-wir-durch-den-kulturwandel/
DTSTAMP:20260422T071725Z
END:VEVENT
END:VCALENDAR