BEGIN:VCALENDAR
CALSCALE:GREGORIAN
VERSION:2.0
PRODID:basecamp.telefonica.de
BEGIN:VEVENT
CALSCALE:GREGORIAN
UID:69e841cf9493e
DTSTART:20250729T100000Z
SEQUENCE:0
TRANSP:OPAQUE
DTEND:20250729T104500Z
LOCATION:BASECAMP\, Mittelstraße 51 - 53\, 10117\, Berlin
SUMMARY:BASECAMP Trend2Go!: Digitaler Kolonialismus - Wie Tech-Konzerne und
  Großmächte die Welt unter sich aufteilen
CLASS:PUBLIC
DESCRIPTION:\n\nInfos & Anmeldung:\nhttps://www.basecamp.digital/event/base
 camp-trend2go-digitaler-kolonialismus-wie-tech-konzerne-und-grossmaechte-d
 ie-welt-unter-sich-aufteilen/
DTSTAMP:20260422T053439Z
END:VEVENT
END:VCALENDAR