BEGIN:VCALENDAR
CALSCALE:GREGORIAN
VERSION:2.0
PRODID:basecamp.telefonica.de
BEGIN:VEVENT
CALSCALE:GREGORIAN
UID:69e4d2c9a3ca9
DTSTART:20250411T100000Z
SEQUENCE:0
TRANSP:OPAQUE
DTEND:20250411T110000Z
LOCATION:BASECAMP\, Mittelstraße 51 - 53\, 10117\, Berlin
SUMMARY:BASECAMP FishBowl: Jung\, dynamisch\, digital – so geht frischer 
 Wind im Bundestag!
CLASS:PUBLIC
DESCRIPTION:\n\nInfos & Anmeldung:\nhttps://www.basecamp.digital/event/base
 camp-fishbowl-jung-dynamisch-digital-so-geht-frischer-wind-im-bundestag/
DTSTAMP:20260419T150409Z
END:VEVENT
END:VCALENDAR