BEGIN:VCALENDAR
CALSCALE:GREGORIAN
VERSION:2.0
PRODID:basecamp.telefonica.de
BEGIN:VEVENT
CALSCALE:GREGORIAN
UID:69e79e06efa1c
DTSTART:20170216T180000Z
SEQUENCE:0
TRANSP:OPAQUE
DTEND:20170216T193000Z
SUMMARY:Data Debate #1: Freiheit und Privatsphäre
CLASS:PUBLIC
DESCRIPTION:Wohin entwickelt sich die Zukunft der digitalen Gesellschaft? D
 ie Reihe Data Debates beschäftigt sich mit Auswirkungen der Digitalisieru
 ng. \n\nInfos & Anmeldung:\nhttps://www.basecamp.digital/event/data-debate
 s-1-freiheit-und-privatsphaere/
DTSTAMP:20260421T175550Z
END:VEVENT
END:VCALENDAR