BEGIN:VCALENDAR
CALSCALE:GREGORIAN
VERSION:2.0
PRODID:basecamp.telefonica.de
BEGIN:VEVENT
CALSCALE:GREGORIAN
UID:69ea20010cf61
DTSTART:20230516T063000Z
SEQUENCE:0
TRANSP:OPAQUE
DTEND:20230516T070000Z
LOCATION:BASECAMP\, Mittelstraße 51 - 53\, 10117\, Berlin
SUMMARY:BASECAMP Nachgefragt!: Schleichender Blackout - Wie wir das digital
 e Desaster verhindern
CLASS:PUBLIC
DESCRIPTION:\n\nInfos & Anmeldung:\nhttps://www.basecamp.digital/event/base
 camp-nachgefragt-nachgefragt-schleichender-blackout-wie-wir-das-digitale-d
 esaster-verhindern-buchvorstellung/
DTSTAMP:20260423T153457Z
END:VEVENT
END:VCALENDAR