BEGIN:VCALENDAR
CALSCALE:GREGORIAN
VERSION:2.0
PRODID:basecamp.telefonica.de
BEGIN:VEVENT
CALSCALE:GREGORIAN
UID:69ea0890e0962
DTSTART:20220908T160000Z
SEQUENCE:0
TRANSP:OPAQUE
DTEND:20220908T180000Z
LOCATION:BASECAMP\, Mittelstraße 51 - 53\, 10117\, Berlin
SUMMARY:FDP Podiumsdiskussion: Welche Datenpolitik braucht Deutschland?
CLASS:PUBLIC
DESCRIPTION:Am 8. September werden sich Expertinnen und Experten bei der FD
 P-Podiumsdiskussion über übergreifende datenpolitische Implikationen\, Z
 iele und Grundsätze austauschen.\n\nInfos & Anmeldung:\nhttps://www.basec
 amp.digital/event/fdp-podiumsdiskussion-welche-datenpolitik-braucht-deutsc
 hland/
DTSTAMP:20260423T135456Z
END:VEVENT
END:VCALENDAR