BEGIN:VCALENDAR
CALSCALE:GREGORIAN
VERSION:2.0
PRODID:basecamp.telefonica.de
BEGIN:VEVENT
CALSCALE:GREGORIAN
UID:69e9dfe5780db
DTSTART:20211026T103000Z
SEQUENCE:0
TRANSP:OPAQUE
DTEND:20211026T133000Z
LOCATION:BASECAMP\, Mittelstraße 51 - 53\, 10117\, Berlin
SUMMARY:BASECAMP Themenwoche: Klimaschutz mit dem Smartphone
CLASS:PUBLIC
DESCRIPTION:Bis 2040 könnten 14 % der weltweiten Gesamtemissionen durch di
 e Nutzung von Cloud Servern erzeugt werden. Den klimaschädlichen Auswirku
 ngen der Digitalisierung muss daher mit bewussterer smarterer Nutzung bege
 gnet werden. Wie können wir mit Hilfe von (Echtzeit)-Daten und Tools unse
 ren individuellen CO2-Abdruck reduzieren?\n\nInfos & Anmeldung:\nhttps://w
 ww.basecamp.digital/event/basecamp-themenwoche-klimaschutz-mit-dem-smartph
 one/
DTSTAMP:20260423T110125Z
END:VEVENT
END:VCALENDAR