BEGIN:VCALENDAR
CALSCALE:GREGORIAN
VERSION:2.0
PRODID:basecamp.telefonica.de
BEGIN:VEVENT
CALSCALE:GREGORIAN
UID:69e9db070b13c
DTSTART:20150414T163000Z
SEQUENCE:0
TRANSP:OPAQUE
DTEND:20150414T190000Z
SUMMARY:Neues Startup-Format für die Hauptstadt: BRAIN_camp
CLASS:PUBLIC
DESCRIPTION:\n\nInfos & Anmeldung:\nhttps://www.basecamp.digital/event/neue
 s-startup-format-fuer-die-hauptstadt-brain_camp/
DTSTAMP:20260423T104039Z
END:VEVENT
END:VCALENDAR